BEGIN:VCALENDAR
VERSION:2.0
PRODID:-//ChamberMaster//Event Calendar 2.0//EN
METHOD:PUBLISH
X-PUBLISHED-TTL:P3D
REFRESH-INTERVAL:P3D
CALSCALE:GREGORIAN
BEGIN:VEVENT
DTSTART:20181214T200000Z
DTEND:20181215T020000Z
X-MICROSOFT-CDO-ALLDAYEVENT:FALSE
SUMMARY:Walker Area Pregnancy Support Center Open House
DESCRIPTION:
X-ALT-DESC;FMTTYPE=text/html:
LOCATION:
UID:e.11.18825
SEQUENCE:3
DTSTAMP:20260420T003159Z
URL:https://leechlake.mobileappview.com/events/details/walker-area-pregnancy-support-center-open-house-18825
END:VEVENT

END:VCALENDAR
