BEGIN:VCALENDAR
VERSION:2.0
PRODID:-//ChamberMaster//Event Calendar 2.0//EN
METHOD:PUBLISH
X-PUBLISHED-TTL:P3D
REFRESH-INTERVAL:P3D
CALSCALE:GREGORIAN
BEGIN:VEVENT
DTSTART;VALUE=DATE:20160712
DTEND;VALUE=DATE:20160718
TRANSP:TRANSPARENT
X-MICROSOFT-CDO-ALLDAYEVENT:TRUE
SUMMARY:Walker Bay Theater - Christmas Bingo
DESCRIPTION:
X-ALT-DESC;FMTTYPE=text/html:
LOCATION:
UID:e.11.5296
SEQUENCE:3
DTSTAMP:20260421T223745Z
URL:https://leechlake.mobileappview.com/events/details/walker-bay-theater-christmas-bingo-07-12-2016-5296
END:VEVENT

END:VCALENDAR
