BEGIN:VCALENDAR
VERSION:2.0
PRODID:-//ChamberMaster//Event Calendar 2.0//EN
METHOD:PUBLISH
X-PUBLISHED-TTL:P3D
REFRESH-INTERVAL:P3D
CALSCALE:GREGORIAN
BEGIN:VEVENT
DTSTART;VALUE=DATE:20160817
DTEND;VALUE=DATE:20160829
TRANSP:TRANSPARENT
X-MICROSOFT-CDO-ALLDAYEVENT:TRUE
SUMMARY:Walker Bay Theater - Gershwin Porter and More
DESCRIPTION:Gershwin Porter and More\n\nThe Best of Broadway
X-ALT-DESC;FMTTYPE=text/html:Gershwin Porter and More<br />\nThe Best of Broadway
LOCATION:Walker Bay Theater Walker\, MN
UID:e.11.5303
SEQUENCE:3
DTSTAMP:20260421T205726Z
URL:https://leechlake.mobileappview.com/events/details/walker-bay-theater-gershwin-porter-and-more-08-17-2016-5303
END:VEVENT

END:VCALENDAR
