BEGIN:VCALENDAR
VERSION:2.0
PRODID:-//ChamberMaster//Event Calendar 2.0//EN
METHOD:PUBLISH
X-PUBLISHED-TTL:P3D
REFRESH-INTERVAL:P3D
CALSCALE:GREGORIAN
BEGIN:VEVENT
DTSTART;VALUE=DATE:20170726
DTEND;VALUE=DATE:20170807
TRANSP:TRANSPARENT
X-MICROSOFT-CDO-ALLDAYEVENT:TRUE
SUMMARY:Walker Bay Theater-I Do! I Do!
DESCRIPTION:
X-ALT-DESC;FMTTYPE=text/html:
LOCATION:
UID:e.11.8990
SEQUENCE:3
DTSTAMP:20260421T011247Z
URL:https://leechlake.mobileappview.com/events/details/walker-bay-theater-i-do-i-do-8990
END:VEVENT

END:VCALENDAR
