BEGIN:VCALENDAR
VERSION:2.0
PRODID:-//ChamberMaster//Event Calendar 2.0//EN
METHOD:PUBLISH
X-PUBLISHED-TTL:P3D
REFRESH-INTERVAL:P3D
CALSCALE:GREGORIAN
BEGIN:VEVENT
DTSTART:20180829T200000Z
DTEND:20180829T223000Z
X-MICROSOFT-CDO-ALLDAYEVENT:FALSE
SUMMARY:Walker Bay Theater - On Golden Pond
DESCRIPTION:Wednesday September 29th  @ 3 PM
X-ALT-DESC;FMTTYPE=text/html:<br />\n<br />\nWednesday September 29th&nbsp\; @ 3 PM<br />\n&nbsp\;
LOCATION:Walker Bay Theater
UID:e.11.16433
SEQUENCE:3
DTSTAMP:20260420T062449Z
URL:https://leechlake.mobileappview.com/events/details/walker-bay-theater-on-golden-pond-08-29-2018-16433
END:VEVENT

END:VCALENDAR
