BEGIN:VCALENDAR
VERSION:2.0
PRODID:-//ChamberMaster//Event Calendar 2.0//EN
METHOD:PUBLISH
X-PUBLISHED-TTL:P3D
REFRESH-INTERVAL:P3D
CALSCALE:GREGORIAN
BEGIN:VEVENT
DTSTART:20180902T200000Z
DTEND:20180902T230000Z
X-MICROSOFT-CDO-ALLDAYEVENT:FALSE
SUMMARY:Walker Bay Theater - On Golden Pond
DESCRIPTION:September 1st -Sunday @ 3 PM
X-ALT-DESC;FMTTYPE=text/html:September 1st -Sunday&nbsp\;@ 3 PM<br />\n&nbsp\;
LOCATION:Walker Bay Theater
UID:e.11.16434
SEQUENCE:3
DTSTAMP:20260420T051343Z
URL:https://leechlake.mobileappview.com/events/details/walker-bay-theater-on-golden-pond-09-02-2018-16434
END:VEVENT

END:VCALENDAR
