BEGIN:VCALENDAR
VERSION:2.0
PRODID:-//ChamberMaster//Event Calendar 2.0//EN
METHOD:PUBLISH
X-PUBLISHED-TTL:P3D
REFRESH-INTERVAL:P3D
CALSCALE:GREGORIAN
BEGIN:VEVENT
DTSTART:20180902T003000Z
DTEND:20180902T023000Z
X-MICROSOFT-CDO-ALLDAYEVENT:FALSE
SUMMARY:Walker Bay Theater - On Golden Pond
DESCRIPTION:Live performance in the cozy surroundings of the Walker Bay Theater located in Walker MN.
X-ALT-DESC;FMTTYPE=text/html:Live performance in the cozy surroundings of the Walker Bay Theater located in Walker MN.&nbsp\;
LOCATION:Walker Bay Theater 100 Highland Ave NW Walker MN 56484
UID:e.11.16599
SEQUENCE:3
DTSTAMP:20260420T051138Z
URL:https://leechlake.mobileappview.com/events/details/walker-bay-theater-on-golden-pond-16599
END:VEVENT

END:VCALENDAR
