BEGIN:VCALENDAR
VERSION:2.0
PRODID:-//ChamberMaster//Event Calendar 2.0//EN
METHOD:PUBLISH
X-PUBLISHED-TTL:P3D
REFRESH-INTERVAL:P3D
CALSCALE:GREGORIAN
BEGIN:VEVENT
DTSTART;VALUE=DATE:20160622
DTEND;VALUE=DATE:20160704
TRANSP:TRANSPARENT
X-MICROSOFT-CDO-ALLDAYEVENT:TRUE
SUMMARY:Walker Bay Theater - Steel Magnolias
DESCRIPTION:Steel Magnolias by: Robert Harling
X-ALT-DESC;FMTTYPE=text/html:Steel Magnolias by: Robert Harling
LOCATION:Walker Bay Theater 100 Highland Ave. NW Walker\, MN 56484
UID:e.11.5291
SEQUENCE:3
DTSTAMP:20260421T223902Z
URL:https://leechlake.mobileappview.com/events/details/walker-bay-theater-steel-magnolias-06-22-2016-5291
END:VEVENT

END:VCALENDAR
