BEGIN:VCALENDAR
VERSION:2.0
PRODID:-//ChamberMaster//Event Calendar 2.0//EN
METHOD:PUBLISH
X-PUBLISHED-TTL:P3D
REFRESH-INTERVAL:P3D
CALSCALE:GREGORIAN
BEGIN:VEVENT
DTSTART:20170818T223000Z
DTEND:20170819T010000Z
X-MICROSOFT-CDO-ALLDAYEVENT:FALSE
SUMMARY:Walker Fire Department Fish Fry
DESCRIPTION:Community Fish Fry to support the Walker Fire Department.
X-ALT-DESC;FMTTYPE=text/html:Community Fish Fry to support the Walker Fire Department.
LOCATION:Walker Fire Hall
UID:e.11.10613
SEQUENCE:3
DTSTAMP:20260421T011454Z
URL:https://leechlake.mobileappview.com/events/details/walker-fire-department-fish-fry-10613
END:VEVENT

END:VCALENDAR
