BEGIN:VCALENDAR
VERSION:2.0
PRODID:-//ChamberMaster//Event Calendar 2.0//EN
METHOD:PUBLISH
X-PUBLISHED-TTL:P3D
REFRESH-INTERVAL:P3D
CALSCALE:GREGORIAN
BEGIN:VEVENT
DTSTART:20180712T140000Z
DTEND:20180714T170000Z
X-MICROSOFT-CDO-ALLDAYEVENT:FALSE
SUMMARY:WALKER FOOD SHELF Pop-Up Sale and Pig Roast!
DESCRIPTION:THREE DAYS OF GREAT SHOPPING\, DELICIOUS FOOD AND LIVE MUSIC!!! \n\n	Shop our huge sale Thursday\, July 12th through Saturday July 14th and bowse the furniture\, household decor\, small appliances\, holiday decor\, books\, garden items\, lighting fixtures\, tools\, sporting good items  and child clothing/toys.\n	Bring a hearty appetite to our wonderful $10 pig roast on Friday\, July 13th at 11:30 am until 8:00 pm.\n	Gather with your friends and neighbors to enjoy live music on Friday\, July 13th at 5:00pm until 8:00 pm \n\nFor pictures\, click on our Facebook page!  https://www.facebook.com/WalkerAreaFoodShelf
X-ALT-DESC;FMTTYPE=text/html:<br />\n<span style="font-size:16px"><strong><span style="color:#669966">THREE DAYS OF GREAT SHOPPING\, DELICIOUS FOOD AND LIVE MUSIC!!!&nbsp\;</span></strong></span>\n<ul>\n	<li><span style="font-size:14px">Shop our huge sale Thursday\, July 12th through Saturday July 14th and bowse the furniture\, household decor\, small appliances\, holiday decor\, books\, garden items\, lighting fixtures\, tools\, sporting good items&nbsp\; and child clothing/toys.</span></li>\n	<li><span style="font-size:14px">Bring a hearty appetite to our wonderful $10 pig roast on Friday\, July 13th at 11:30 am until 8:00 pm.</span></li>\n	<li><span style="font-size:14px">Gather with your friends and neighbors to enjoy live music on Friday\, July 13th at 5:00pm until 8:00 pm&nbsp\;</span></li>\n</ul>\n<span style="font-size:14px">For pictures\, click on our Facebook page!&nbsp\;&nbsp\;<a href="https://www.facebook.com/WalkerAreaFoodShelf">https://www.facebook.com/WalkerAreaFoodShelf</a></span>
LOCATION:We will be at the old NAPA building in Walker on Hwy 371 North between Walker Marine and Brittany's Floral
UID:e.11.16533
SEQUENCE:3
DTSTAMP:20260420T075435Z
URL:https://leechlake.mobileappview.com/events/details/walker-food-shelf-pop-up-sale-and-pig-roast-16533
END:VEVENT

END:VCALENDAR
