BEGIN:VCALENDAR
VERSION:2.0
PRODID:-//ChamberMaster//Event Calendar 2.0//EN
METHOD:PUBLISH
X-PUBLISHED-TTL:P3D
REFRESH-INTERVAL:P3D
CALSCALE:GREGORIAN
BEGIN:VEVENT
DTSTART:20170819T140000Z
DTEND:20170819T200000Z
X-MICROSOFT-CDO-ALLDAYEVENT:FALSE
SUMMARY:Walker Ford Drive 4 your school
DESCRIPTION:Walker Ford and Laporte School PTO\n\nDrive 4 your School
X-ALT-DESC;FMTTYPE=text/html:Walker Ford and Laporte School PTO<br />\nDrive 4 your School
LOCATION:Laporte School
UID:e.11.10616
SEQUENCE:3
DTSTAMP:20260421T011247Z
URL:https://leechlake.mobileappview.com/events/details/walker-ford-drive-4-your-school-10616
END:VEVENT

END:VCALENDAR
