BEGIN:VCALENDAR
VERSION:2.0
PRODID:-//ChamberMaster//Event Calendar 2.0//EN
METHOD:PUBLISH
X-PUBLISHED-TTL:P3D
REFRESH-INTERVAL:P3D
CALSCALE:GREGORIAN
BEGIN:VEVENT
DTSTART;VALUE=DATE:20180616
DTEND;VALUE=DATE:20180617
TRANSP:TRANSPARENT
X-MICROSOFT-CDO-ALLDAYEVENT:TRUE
SUMMARY:Walker Legion SAL Hog Roast
DESCRIPTION:Roast Pork Sandwiches\n\nBaked Beans\n\nCole Slaw\n\nChips
X-ALT-DESC;FMTTYPE=text/html:Roast Pork Sandwiches<br />\nBaked Beans<br />\nCole Slaw<br />\nChips
LOCATION:Spencer Ross Legion
UID:e.11.16491
SEQUENCE:3
DTSTAMP:20260420T091839Z
URL:https://leechlake.mobileappview.com/events/details/walker-legion-sal-hog-roast-16491
END:VEVENT

END:VCALENDAR
