BEGIN:VCALENDAR
VERSION:2.0
PRODID:-//ChamberMaster//Event Calendar 2.0//EN
METHOD:PUBLISH
X-PUBLISHED-TTL:P3D
REFRESH-INTERVAL:P3D
CALSCALE:GREGORIAN
BEGIN:VEVENT
DTSTART:20161015T160000Z
DTEND:20161015T190000Z
X-MICROSOFT-CDO-ALLDAYEVENT:FALSE
SUMMARY:Walker Wedding Showcase Exo
DESCRIPTION:Walker Wedding Showcase Expo
X-ALT-DESC;FMTTYPE=text/html:Walker Wedding Showcase Expo
LOCATION:Chase on the Lake 502 Cleveland Blvd.
UID:e.11.9027
SEQUENCE:3
DTSTAMP:20260421T173315Z
URL:https://leechlake.mobileappview.com/events/details/walker-wedding-showcase-exo-9027
END:VEVENT

END:VCALENDAR
