BEGIN:VCALENDAR
VERSION:2.0
PRODID:-//ChamberMaster//Event Calendar 2.0//EN
METHOD:PUBLISH
X-PUBLISHED-TTL:P3D
REFRESH-INTERVAL:P3D
CALSCALE:GREGORIAN
BEGIN:VEVENT
DTSTART;VALUE=DATE:20190301
DTEND;VALUE=DATE:20190304
TRANSP:TRANSPARENT
X-MICROSOFT-CDO-ALLDAYEVENT:TRUE
SUMMARY:Walker Youth Hockey -
DESCRIPTION:There will be over 120 kids\, their siblings\, parents\, and grandparents in Walker March 1-3 to compete for spots to go the State Trounament
X-ALT-DESC;FMTTYPE=text/html:There will be over 120 kids\, their siblings\, parents\, and grandparents in Walker March 1-3 to compete for spots to go the State Trounament
LOCATION:Walker Area Community Center
UID:e.11.18029
SEQUENCE:3
DTSTAMP:20260419T200158Z
URL:https://leechlake.mobileappview.com/events/details/walker-youth-hockey-18029
END:VEVENT

END:VCALENDAR
