BEGIN:VCALENDAR
VERSION:2.0
PRODID:-//ChamberMaster//Event Calendar 2.0//EN
METHOD:PUBLISH
X-PUBLISHED-TTL:P3D
REFRESH-INTERVAL:P3D
CALSCALE:GREGORIAN
BEGIN:VEVENT
DTSTART:20190628T220000Z
DTEND:20190629T000000Z
X-MICROSOFT-CDO-ALLDAYEVENT:FALSE
SUMMARY:Walleye Dinner at Lake May Center
DESCRIPTION:2 piece walleye dinner
X-ALT-DESC;FMTTYPE=text/html:2 piece walleye dinner&nbsp\;&nbsp\;&nbsp\;&nbsp\;&nbsp\;&nbsp\;&nbsp\;&nbsp\;
LOCATION:Lake May Center
UID:e.11.21723
SEQUENCE:3
DTSTAMP:20260419T152246Z
URL:https://leechlake.mobileappview.com/events/details/walleye-dinner-at-lake-may-center-21723
END:VEVENT

END:VCALENDAR
