BEGIN:VCALENDAR
VERSION:2.0
PRODID:-//ChamberMaster//Event Calendar 2.0//EN
METHOD:PUBLISH
X-PUBLISHED-TTL:P3D
REFRESH-INTERVAL:P3D
CALSCALE:GREGORIAN
BEGIN:VEVENT
DTSTART:20180323T220000Z
DTEND:20180324T000000Z
X-MICROSOFT-CDO-ALLDAYEVENT:FALSE
SUMMARY:Walleye Dinner @ Lake May Center
DESCRIPTION:2 piece Walleye Dinner\n\nBaked Potato\n\nWild Rice\n\nColeslaw\n\nRolls and Pies
X-ALT-DESC;FMTTYPE=text/html:2 piece Walleye Dinner<br />\nBaked Potato<br />\nWild Rice<br />\nColeslaw<br />\nRolls and Pies
LOCATION:Lake May Center in Walker Hwy 34 South next to the Ambulance Garage
UID:e.11.9570
SEQUENCE:3
DTSTAMP:20260420T140051Z
URL:https://leechlake.mobileappview.com/events/details/walleye-dinner-lake-may-center-03-23-2018-9570
END:VEVENT

END:VCALENDAR
