BEGIN:VCALENDAR
VERSION:2.0
PRODID:-//ChamberMaster//Event Calendar 2.0//EN
METHOD:PUBLISH
X-PUBLISHED-TTL:P3D
REFRESH-INTERVAL:P3D
CALSCALE:GREGORIAN
BEGIN:VEVENT
DTSTART:20160624T220000Z
DTEND:20160625T000000Z
X-MICROSOFT-CDO-ALLDAYEVENT:FALSE
SUMMARY:Walleye Dinner-Lake May Center
DESCRIPTION:2 piece Walleye Dinner\n\nBaked potato\, wild rice\, coleslaw\, rolls and pies
X-ALT-DESC;FMTTYPE=text/html:2 piece Walleye Dinner<br />\nBaked potato\, wild rice\, coleslaw\, rolls and pies&nbsp\;&nbsp\;&nbsp\;&nbsp\;&nbsp\;&nbsp\;&nbsp\;&nbsp\;
LOCATION:Lake May Center Walker\, MN
UID:e.11.8829
SEQUENCE:3
DTSTAMP:20260421T235823Z
URL:https://leechlake.mobileappview.com/events/details/walleye-dinner-lake-may-center-06-24-2016-8829
END:VEVENT

END:VCALENDAR
