BEGIN:VCALENDAR
VERSION:2.0
PRODID:-//ChamberMaster//Event Calendar 2.0//EN
METHOD:PUBLISH
X-PUBLISHED-TTL:P3D
REFRESH-INTERVAL:P3D
CALSCALE:GREGORIAN
BEGIN:VEVENT
DTSTART:20160722T220000Z
DTEND:20160723T000000Z
X-MICROSOFT-CDO-ALLDAYEVENT:FALSE
SUMMARY:Walleye Dinner-Lake May Center
DESCRIPTION:2 piece walleye Dinner\n\nBaked Potato\, Wild Rice\, Coleslaw\, Rolls & Pies
X-ALT-DESC;FMTTYPE=text/html:2 piece walleye Dinner<br />\nBaked Potato\, Wild Rice\, Coleslaw\, Rolls &amp\; Pies
LOCATION:Lake May Center Walker\, MN
UID:e.11.8842
SEQUENCE:3
DTSTAMP:20260421T223501Z
URL:https://leechlake.mobileappview.com/events/details/walleye-dinner-lake-may-center-07-22-2016-8842
END:VEVENT

END:VCALENDAR
