BEGIN:VCALENDAR
VERSION:2.0
PRODID:-//ChamberMaster//Event Calendar 2.0//EN
METHOD:PUBLISH
X-PUBLISHED-TTL:P3D
REFRESH-INTERVAL:P3D
CALSCALE:GREGORIAN
BEGIN:VEVENT
DTSTART:20160826T220000Z
DTEND:20160827T000000Z
X-MICROSOFT-CDO-ALLDAYEVENT:FALSE
SUMMARY:Walleye Dinner-Lake May Center
DESCRIPTION:2 piece Walleye Dinner    \n\nBaked potato\, Wild Rice\, coleslaw\, Rolls & Pies
X-ALT-DESC;FMTTYPE=text/html:2 piece Walleye Dinner&nbsp\;&nbsp\;&nbsp\;&nbsp\;<br />\nBaked potato\, Wild Rice\, coleslaw\, Rolls &amp\; Pies&nbsp\;&nbsp\;&nbsp\;&nbsp\;
LOCATION:Lake May Center Hwy 34 South Next to the Ambulance Garage Walker\, MN
UID:e.11.8855
SEQUENCE:3
DTSTAMP:20260421T205205Z
URL:https://leechlake.mobileappview.com/events/details/walleye-dinner-lake-may-center-08-26-2016-8855
END:VEVENT

END:VCALENDAR
