BEGIN:VCALENDAR
VERSION:2.0
PRODID:-//ChamberMaster//Event Calendar 2.0//EN
METHOD:PUBLISH
X-PUBLISHED-TTL:P3D
REFRESH-INTERVAL:P3D
CALSCALE:GREGORIAN
BEGIN:VEVENT
DTSTART:20161028T220000Z
DTEND:20161029T000000Z
X-MICROSOFT-CDO-ALLDAYEVENT:FALSE
SUMMARY:Walleye Dinner-Lake May Center
DESCRIPTION:2 piece walleye Dinner\n\nbaked potato\, wild rice\, coleslaw and rolls plus pie
X-ALT-DESC;FMTTYPE=text/html:2 piece walleye Dinner<br />\nbaked potato\, wild rice\, coleslaw and rolls plus pie
LOCATION:Lake May Center Hwy 34 next to ambulance garage
UID:e.11.9064
SEQUENCE:3
DTSTAMP:20260421T173448Z
URL:https://leechlake.mobileappview.com/events/details/walleye-dinner-lake-may-center-9064
END:VEVENT

END:VCALENDAR
