BEGIN:VCALENDAR
VERSION:2.0
PRODID:-//ChamberMaster//Event Calendar 2.0//EN
METHOD:PUBLISH
X-PUBLISHED-TTL:P3D
REFRESH-INTERVAL:P3D
CALSCALE:GREGORIAN
BEGIN:VEVENT
DTSTART:20170127T230000Z
DTEND:20170128T010000Z
X-MICROSOFT-CDO-ALLDAYEVENT:FALSE
SUMMARY:Walleye Dinner @ Lake May Center
DESCRIPTION:2 piece Walleye Dinner\n\nBaked Potato\, Wild Rice\, Coleslaw\, Rolls and Pies
X-ALT-DESC;FMTTYPE=text/html:2 piece Walleye Dinner<br />\nBaked Potato\, Wild Rice\, Coleslaw\, Rolls and Pies
LOCATION:Lake May Center in Walker Hwy 34 South\, next to Ambulance Garage
UID:e.11.9181
SEQUENCE:3
DTSTAMP:20260421T122249Z
URL:https://leechlake.mobileappview.com/events/details/walleye-dinner-lake-may-center-9181
END:VEVENT

END:VCALENDAR
