BEGIN:VCALENDAR
VERSION:2.0
PRODID:-//ChamberMaster//Event Calendar 2.0//EN
METHOD:PUBLISH
X-PUBLISHED-TTL:P3D
REFRESH-INTERVAL:P3D
CALSCALE:GREGORIAN
BEGIN:VEVENT
DTSTART:20170324T220000Z
DTEND:20170325T000000Z
X-MICROSOFT-CDO-ALLDAYEVENT:FALSE
SUMMARY:Walleye Dinner @ Lake May Center
DESCRIPTION:2 piece walleye dinner\n\nbaked potato\, wild rice\, coleslaw\, roll and pies
X-ALT-DESC;FMTTYPE=text/html:2 piece walleye dinner<br />\nbaked potato\, wild rice\, coleslaw\, roll and pies
LOCATION:Lake May Center Hwy 34 South Next to Ambulance Garage
UID:e.11.9245
SEQUENCE:3
DTSTAMP:20260421T092601Z
URL:https://leechlake.mobileappview.com/events/details/walleye-dinner-lake-may-center-9245
END:VEVENT

END:VCALENDAR
