BEGIN:VCALENDAR
VERSION:2.0
PRODID:-//ChamberMaster//Event Calendar 2.0//EN
METHOD:PUBLISH
X-PUBLISHED-TTL:P3D
REFRESH-INTERVAL:P3D
CALSCALE:GREGORIAN
BEGIN:VEVENT
DTSTART:20170428T220000Z
DTEND:20170429T000000Z
X-MICROSOFT-CDO-ALLDAYEVENT:FALSE
SUMMARY:Walleye Dinner @ Lake May Center
DESCRIPTION:2 piece Walleye Dinner\n\nBaked Potato\, Wild Rice\, Coleslaw\, Rolls & Pies
X-ALT-DESC;FMTTYPE=text/html:2 piece Walleye Dinner<br />\nBaked Potato\, Wild Rice\, Coleslaw\, Rolls &amp\; Pies
LOCATION:Lake May Center Hwy 34 South
UID:e.11.9450
SEQUENCE:3
DTSTAMP:20260421T075052Z
URL:https://leechlake.mobileappview.com/events/details/walleye-dinner-lake-may-center-9450
END:VEVENT

END:VCALENDAR
