BEGIN:VCALENDAR
VERSION:2.0
PRODID:-//ChamberMaster//Event Calendar 2.0//EN
METHOD:PUBLISH
X-PUBLISHED-TTL:P3D
REFRESH-INTERVAL:P3D
CALSCALE:GREGORIAN
BEGIN:VEVENT
DTSTART:20161007T220000Z
DTEND:20161008T000000Z
X-MICROSOFT-CDO-ALLDAYEVENT:FALSE
SUMMARY:Walleye Fish Fry - Family Safety Network
DESCRIPTION:October is domestic violence awareness month\n\nFish will be prepared by Sheriff Tom Burch and his crew.
X-ALT-DESC;FMTTYPE=text/html:October is domestic violence awareness month<br />\nFish will be prepared by Sheriff Tom Burch and his crew.
LOCATION:St. Paul's Lutheran Church Hackensack
UID:e.11.8896
SEQUENCE:3
DTSTAMP:20260421T173816Z
URL:https://leechlake.mobileappview.com/events/details/walleye-fish-fry-family-safety-network-8896
END:VEVENT

END:VCALENDAR
