BEGIN:VCALENDAR
VERSION:2.0
PRODID:-//ChamberMaster//Event Calendar 2.0//EN
METHOD:PUBLISH
X-PUBLISHED-TTL:P3D
REFRESH-INTERVAL:P3D
CALSCALE:GREGORIAN
BEGIN:VEVENT
DTSTART:20180705T160000Z
DTEND:20180705T180000Z
X-MICROSOFT-CDO-ALLDAYEVENT:FALSE
SUMMARY:Watermelon Eating Contest
DESCRIPTION:. Watermelon eating contest for kids.
X-ALT-DESC;FMTTYPE=text/html:. Watermelon eating contest for kids.
LOCATION:Walker Community Farmers' & Crafters Market 617 Michigan Ave. West
UID:e.11.11868
SEQUENCE:3
DTSTAMP:20260420T075142Z
URL:https://leechlake.mobileappview.com/events/details/watermelon-eating-contest-07-05-2018-11868
END:VEVENT

END:VCALENDAR
