BEGIN:VCALENDAR
VERSION:2.0
PRODID:-//ChamberMaster//Event Calendar 2.0//EN
METHOD:PUBLISH
X-PUBLISHED-TTL:P3D
REFRESH-INTERVAL:P3D
CALSCALE:GREGORIAN
BEGIN:VEVENT
DTSTART:20160825T220000Z
DTEND:20160826T023000Z
X-MICROSOFT-CDO-ALLDAYEVENT:FALSE
SUMMARY:Watershed Foundation Gala-Jazz in August
DESCRIPTION:A fundraising event for the Leech Lake Area Watershed Foundation
X-ALT-DESC;FMTTYPE=text/html:A fundraising event for the Leech Lake Area Watershed Foundation
LOCATION:Bluewater Lodge
UID:e.11.5325
SEQUENCE:3
DTSTAMP:20260421T205308Z
URL:https://leechlake.mobileappview.com/events/details/watershed-foundation-gala-jazz-in-august-08-25-2016-5325
END:VEVENT

END:VCALENDAR
