BEGIN:VCALENDAR
VERSION:2.0
PRODID:-//ChamberMaster//Event Calendar 2.0//EN
METHOD:PUBLISH
X-PUBLISHED-TTL:P3D
REFRESH-INTERVAL:P3D
CALSCALE:GREGORIAN
BEGIN:VEVENT
DTSTART:20181015T223000Z
DTEND:20181016T000000Z
X-MICROSOFT-CDO-ALLDAYEVENT:FALSE
SUMMARY:Wave of Light Ceremony
DESCRIPTION:Pregnancy and Infant Loss Ceremony
X-ALT-DESC;FMTTYPE=text/html:Pregnancy and Infant Loss Ceremony&nbsp\;
LOCATION:Lindquist Park 601 6th St. W. Park Rapids. RSVP's encouraged but not required. 218-616-3266
UID:e.11.16915
SEQUENCE:3
DTSTAMP:20260420T034722Z
URL:https://leechlake.mobileappview.com/events/details/wave-of-light-ceremony-16915
END:VEVENT

END:VCALENDAR
