BEGIN:VCALENDAR
VERSION:2.0
PRODID:-//ChamberMaster//Event Calendar 2.0//EN
METHOD:PUBLISH
X-PUBLISHED-TTL:P3D
REFRESH-INTERVAL:P3D
CALSCALE:GREGORIAN
BEGIN:VEVENT
DTSTART;VALUE=DATE:20171014
DTEND;VALUE=DATE:20171015
TRANSP:TRANSPARENT
X-MICROSOFT-CDO-ALLDAYEVENT:TRUE
SUMMARY:Wedding Showcase Expo 2017
DESCRIPTION:The event is co sponsored by the Pilot Independent and Northern Lights Casino Hotel and Event Center\n\n\n\nAdmission is Free and open to the public
X-ALT-DESC;FMTTYPE=text/html:The event is co sponsored by the Pilot Independent and Northern Lights Casino Hotel and Event Center<br />\n<br />\nAdmission is Free and open to the public&nbsp\;&nbsp\;&nbsp\;&nbsp\;&nbsp\;&nbsp\;&nbsp\;&nbsp\;
LOCATION:Northern Lights Casino Hotel and Event Center
UID:e.11.9219
SEQUENCE:3
DTSTAMP:20260420T220313Z
URL:https://leechlake.mobileappview.com/events/details/wedding-showcase-expo-2017-9219
END:VEVENT

END:VCALENDAR
