BEGIN:VCALENDAR
VERSION:2.0
PRODID:-//ChamberMaster//Event Calendar 2.0//EN
METHOD:PUBLISH
X-PUBLISHED-TTL:P3D
REFRESH-INTERVAL:P3D
CALSCALE:GREGORIAN
BEGIN:VEVENT
DTSTART;VALUE=DATE:20180518
DTEND;VALUE=DATE:20180521
TRANSP:TRANSPARENT
X-MICROSOFT-CDO-ALLDAYEVENT:TRUE
SUMMARY:Wellness & Socialization for Women with Diabilities
DESCRIPTION:
X-ALT-DESC;FMTTYPE=text/html:
LOCATION:Camp Bliss
UID:e.11.12523
SEQUENCE:3
DTSTAMP:20260420T105803Z
URL:https://leechlake.mobileappview.com/events/details/wellness-socialization-for-women-with-diabilities-12523
END:VEVENT

END:VCALENDAR
