BEGIN:VCALENDAR
VERSION:2.0
PRODID:-//ChamberMaster//Event Calendar 2.0//EN
METHOD:PUBLISH
X-PUBLISHED-TTL:P3D
REFRESH-INTERVAL:P3D
CALSCALE:GREGORIAN
BEGIN:VEVENT
DTSTART:20180510T203000Z
DTEND:20180510T220000Z
X-MICROSOFT-CDO-ALLDAYEVENT:FALSE
SUMMARY:WHA Art Club
DESCRIPTION:5th & 6th Graders\n\n\n\nProject #1\n\nGustav Klimt's Golden Phase
X-ALT-DESC;FMTTYPE=text/html:5th &amp\; 6th Graders<br />\n<br />\nProject #1<br />\nGustav Klimt&#39\;s Golden Phase
LOCATION:
UID:e.11.13406
SEQUENCE:3
DTSTAMP:20260420T105455Z
URL:https://leechlake.mobileappview.com/events/details/wha-art-club-13406
END:VEVENT

END:VCALENDAR
