BEGIN:VCALENDAR
VERSION:2.0
PRODID:-//ChamberMaster//Event Calendar 2.0//EN
METHOD:PUBLISH
X-PUBLISHED-TTL:P3D
REFRESH-INTERVAL:P3D
CALSCALE:GREGORIAN
BEGIN:VEVENT
DTSTART:20180509T230000Z
DTEND:20180510T020000Z
X-MICROSOFT-CDO-ALLDAYEVENT:FALSE
SUMMARY:WHA Awards Banquet - Walker Lions Club
DESCRIPTION:
X-ALT-DESC;FMTTYPE=text/html:
LOCATION:WHA High School Commons
UID:e.11.9037
SEQUENCE:3
DTSTAMP:20260420T110018Z
URL:https://leechlake.mobileappview.com/events/details/wha-awards-banquet-walker-lions-club-9037
END:VEVENT

END:VCALENDAR
