BEGIN:VCALENDAR
VERSION:2.0
PRODID:-//ChamberMaster//Event Calendar 2.0//EN
METHOD:PUBLISH
X-PUBLISHED-TTL:P3D
REFRESH-INTERVAL:P3D
CALSCALE:GREGORIAN
BEGIN:VEVENT
DTSTART:20190514T000000Z
DTEND:20190514T020000Z
X-MICROSOFT-CDO-ALLDAYEVENT:FALSE
SUMMARY:WHA Choir Concert
DESCRIPTION:
X-ALT-DESC;FMTTYPE=text/html:
LOCATION:
UID:e.11.19945
SEQUENCE:3
DTSTAMP:20260419T164412Z
URL:https://leechlake.mobileappview.com/events/details/wha-choir-concert-19945
END:VEVENT

END:VCALENDAR
