BEGIN:VCALENDAR
VERSION:2.0
PRODID:-//ChamberMaster//Event Calendar 2.0//EN
METHOD:PUBLISH
X-PUBLISHED-TTL:P3D
REFRESH-INTERVAL:P3D
CALSCALE:GREGORIAN
BEGIN:VEVENT
DTSTART:20190525T000000Z
DTEND:20190525T020000Z
X-MICROSOFT-CDO-ALLDAYEVENT:FALSE
SUMMARY:WHA Graduation
DESCRIPTION:
X-ALT-DESC;FMTTYPE=text/html:
LOCATION:
UID:e.11.19946
SEQUENCE:3
DTSTAMP:20260419T163943Z
URL:https://leechlake.mobileappview.com/events/details/wha-graduation-19946
END:VEVENT

END:VCALENDAR
