BEGIN:VCALENDAR
VERSION:2.0
PRODID:-//ChamberMaster//Event Calendar 2.0//EN
METHOD:PUBLISH
X-PUBLISHED-TTL:P3D
REFRESH-INTERVAL:P3D
CALSCALE:GREGORIAN
BEGIN:VEVENT
DTSTART;VALUE=DATE:20170609
DTEND;VALUE=DATE:20170611
TRANSP:TRANSPARENT
X-MICROSOFT-CDO-ALLDAYEVENT:TRUE
SUMMARY:WHAN Special Olympics Rummage Sale
DESCRIPTION:All proceeds benefit the Walker-Hackensack-Akeley-Nevis Special Olympians in their various activities and events.
X-ALT-DESC;FMTTYPE=text/html:All proceeds benefit the Walker-Hackensack-Akeley-Nevis Special Olympians in their various activities and events.
LOCATION:St. Agnes Church Walker\, MN
UID:e.11.9492
SEQUENCE:3
DTSTAMP:20260421T043535Z
URL:https://leechlake.mobileappview.com/events/details/whan-special-olympics-rummage-sale-9492
END:VEVENT

END:VCALENDAR
