BEGIN:VCALENDAR
VERSION:2.0
PRODID:-//ChamberMaster//Event Calendar 2.0//EN
METHOD:PUBLISH
X-PUBLISHED-TTL:P3D
REFRESH-INTERVAL:P3D
CALSCALE:GREGORIAN
BEGIN:VEVENT
DTSTART:20171023T220000Z
DTEND:20171024T000000Z
X-MICROSOFT-CDO-ALLDAYEVENT:FALSE
SUMMARY:WHAN Trap Shooters Fundraiser
DESCRIPTION:WHAN Trap Shooters Fundraiser\n\n\n\nHomemade Spaghetti Dinner
X-ALT-DESC;FMTTYPE=text/html:WHAN&nbsp\;Trap Shooters Fundraiser<br />\n<br />\nHomemade Spaghetti Dinner
LOCATION:Charlie's Up North
UID:e.11.12211
SEQUENCE:3
DTSTAMP:20260420T220532Z
URL:https://leechlake.mobileappview.com/events/details/whan-trap-shooters-fundraiser-12211
END:VEVENT

END:VCALENDAR
