BEGIN:VCALENDAR
VERSION:2.0
PRODID:-//ChamberMaster//Event Calendar 2.0//EN
METHOD:PUBLISH
X-PUBLISHED-TTL:P3D
REFRESH-INTERVAL:P3D
CALSCALE:GREGORIAN
BEGIN:VEVENT
DTSTART:20190408T230000Z
DTEND:20190409T010000Z
X-MICROSOFT-CDO-ALLDAYEVENT:FALSE
SUMMARY:What is Reiki
DESCRIPTION:Click Here\n\nLearn what Reiki is and how it compares to other healing modalities.
X-ALT-DESC;FMTTYPE=text/html:<a href="https://chambermaster.blob.core.windows.net/userfiles/UserFiles/chambers/11/File/stonewoman.pdf">Click Here</a><br />\nLearn what Reiki is and how it compares to other healing modalities.
LOCATION:103\, 5th St. S. Walker\, MN
UID:e.11.19596
SEQUENCE:3
DTSTAMP:20260419T181959Z
URL:https://leechlake.mobileappview.com/events/details/what-is-reiki-19596
END:VEVENT

END:VCALENDAR
