BEGIN:VCALENDAR
VERSION:2.0
PRODID:-//ChamberMaster//Event Calendar 2.0//EN
METHOD:PUBLISH
X-PUBLISHED-TTL:P3D
REFRESH-INTERVAL:P3D
CALSCALE:GREGORIAN
BEGIN:VEVENT
DTSTART:20160817T000000Z
DTEND:20160817T020000Z
X-MICROSOFT-CDO-ALLDAYEVENT:FALSE
SUMMARY:Why Don't We All Look The Same
DESCRIPTION:Modern Human Travels in Settling the World\n\nPresented by Dan Eikenberry\n\nSponsored by Cass County Historical Society and Walker Public Library
X-ALT-DESC;FMTTYPE=text/html:Modern Human Travels in Settling the World<br />\nPresented by Dan Eikenberry<br />\nSponsored by Cass County Historical Society and Walker Public Library
LOCATION:U. S. Forest Building Walker MN
UID:e.11.8846
SEQUENCE:3
DTSTAMP:20260421T205142Z
URL:https://leechlake.mobileappview.com/events/details/why-don-t-we-all-look-the-same-08-16-2016-8846
END:VEVENT

END:VCALENDAR
