BEGIN:VCALENDAR
VERSION:2.0
PRODID:-//ChamberMaster//Event Calendar 2.0//EN
METHOD:PUBLISH
X-PUBLISHED-TTL:P3D
REFRESH-INTERVAL:P3D
CALSCALE:GREGORIAN
BEGIN:VEVENT
DTSTART;VALUE=DATE:20170617
DTEND;VALUE=DATE:20170618
TRANSP:TRANSPARENT
X-MICROSOFT-CDO-ALLDAYEVENT:TRUE
SUMMARY:Wildflower Hike
DESCRIPTION:one to two hour hike around the recreation area.
X-ALT-DESC;FMTTYPE=text/html:one to two hour hike around the recreation area.
LOCATION:Meet at Hwy 34/NCT new parking lot\, Alice Lake Forest Road at the bottom of hill at 9:00 am
UID:e.11.9096
SEQUENCE:3
DTSTAMP:20260421T043231Z
URL:https://leechlake.mobileappview.com/events/details/wildflower-hike-9096
END:VEVENT

END:VCALENDAR
