BEGIN:VCALENDAR
VERSION:2.0
PRODID:-//ChamberMaster//Event Calendar 2.0//EN
METHOD:PUBLISH
X-PUBLISHED-TTL:P3D
REFRESH-INTERVAL:P3D
CALSCALE:GREGORIAN
BEGIN:VEVENT
DTSTART;VALUE=DATE:20180722
DTEND;VALUE=DATE:20180723
TRANSP:TRANSPARENT
X-MICROSOFT-CDO-ALLDAYEVENT:TRUE
SUMMARY:Wolf Pack Scramble-Tianna Country Club
DESCRIPTION:10th Annual Wolf Pack Golf Team Scramble\n\nAwards & Dinner after Golf
X-ALT-DESC;FMTTYPE=text/html:10th Annual Wolf Pack Golf Team Scramble<br />\nAwards &amp\; Dinner after Golf
LOCATION:Tianna Country Club Walker\, MN 56484
UID:e.11.5189
SEQUENCE:3
DTSTAMP:20260420T081106Z
URL:https://leechlake.mobileappview.com/events/details/wolf-pack-scramble-tianna-country-club-07-24-2016-5189
END:VEVENT

END:VCALENDAR
