BEGIN:VCALENDAR
VERSION:2.0
PRODID:-//ChamberMaster//Event Calendar 2.0//EN
METHOD:PUBLISH
X-PUBLISHED-TTL:P3D
REFRESH-INTERVAL:P3D
CALSCALE:GREGORIAN
BEGIN:VEVENT
DTSTART;VALUE=DATE:20190301
DTEND;VALUE=DATE:20190304
TRANSP:TRANSPARENT
X-MICROSOFT-CDO-ALLDAYEVENT:TRUE
SUMMARY:Women's Expo
DESCRIPTION:Click Here
X-ALT-DESC;FMTTYPE=text/html:<a href="https://chambermaster.blob.core.windows.net/userfiles/UserFiles/chambers/11/File/womensexpo.jpg">Click Here</a>
LOCATION:
UID:e.11.19556
SEQUENCE:3
DTSTAMP:20260419T200102Z
URL:https://leechlake.mobileappview.com/events/details/women-s-expo-19556
END:VEVENT

END:VCALENDAR
