BEGIN:VCALENDAR
VERSION:2.0
PRODID:-//ChamberMaster//Event Calendar 2.0//EN
METHOD:PUBLISH
X-PUBLISHED-TTL:P3D
REFRESH-INTERVAL:P3D
CALSCALE:GREGORIAN
BEGIN:VEVENT
DTSTART:20180310T150000Z
DTEND:20180310T210000Z
X-MICROSOFT-CDO-ALLDAYEVENT:FALSE
SUMMARY:Women's Expo at Northern Lights Casino
DESCRIPTION:60 vendors\n\n3 different speakers addressing women's health issues\, painting class and more
X-ALT-DESC;FMTTYPE=text/html:60 vendors<br />\n3 different speakers addressing women&#39\;s&nbsp\;health issues\, painting class and more
LOCATION:Northern Lights Casino
UID:e.11.12977
SEQUENCE:3
DTSTAMP:20260420T140430Z
URL:https://leechlake.mobileappview.com/events/details/women-s-expo-at-northern-lights-casino-12977
END:VEVENT

END:VCALENDAR
