BEGIN:VCALENDAR
VERSION:2.0
PRODID:-//ChamberMaster//Event Calendar 2.0//EN
METHOD:PUBLISH
X-PUBLISHED-TTL:P3D
REFRESH-INTERVAL:P3D
CALSCALE:GREGORIAN
BEGIN:VEVENT
DTSTART;VALUE=DATE:20170628
DTEND;VALUE=DATE:20170630
TRANSP:TRANSPARENT
X-MICROSOFT-CDO-ALLDAYEVENT:TRUE
SUMMARY:Women's Networking - Feeling Well. Living well Experiences
DESCRIPTION:Sarah Cekalla will be offering individual wellness consultations as well as teaching a class on The Alchemy of Happiness.
X-ALT-DESC;FMTTYPE=text/html:Sarah Cekalla&nbsp\;will be offering individual wellness consultations as well as teaching a class on The Alchemy of Happiness.
LOCATION:Yoga Love Studio Main Street Walker
UID:e.11.10554
SEQUENCE:3
DTSTAMP:20260421T043556Z
URL:https://leechlake.mobileappview.com/events/details/women-s-networking-feeling-well-living-well-experiences-10554
END:VEVENT

END:VCALENDAR
