BEGIN:VCALENDAR
VERSION:2.0
PRODID:-//ChamberMaster//Event Calendar 2.0//EN
METHOD:PUBLISH
X-PUBLISHED-TTL:P3D
REFRESH-INTERVAL:P3D
CALSCALE:GREGORIAN
BEGIN:VEVENT
DTSTART:20170815T123000Z
DTEND:20170815T170000Z
X-MICROSOFT-CDO-ALLDAYEVENT:FALSE
SUMMARY:Women's Networking - Fit 4 Glory
DESCRIPTION:
X-ALT-DESC;FMTTYPE=text/html:
LOCATION:Hackensack HUB
UID:e.11.10611
SEQUENCE:3
DTSTAMP:20260421T011519Z
URL:https://leechlake.mobileappview.com/events/details/women-s-networking-fit-4-glory-10611
END:VEVENT

END:VCALENDAR
