BEGIN:VCALENDAR
VERSION:2.0
PRODID:-//ChamberMaster//Event Calendar 2.0//EN
METHOD:PUBLISH
X-PUBLISHED-TTL:P3D
REFRESH-INTERVAL:P3D
CALSCALE:GREGORIAN
BEGIN:VEVENT
DTSTART:20171212T233000Z
DTEND:20171213T020000Z
X-MICROSOFT-CDO-ALLDAYEVENT:FALSE
SUMMARY:Women's Networking Vendor Event
DESCRIPTION:Join the women's Networking Group for an evening of sharing\, shopping and prizes!  Please come shop for all of those last minute gift items and stocking stuffers.\n\nAll are welcome
X-ALT-DESC;FMTTYPE=text/html:Join the women&#39\;s Networking Group for an evening of sharing\, shopping and prizes!&nbsp\; Please come shop for all of those last minute gift items and stocking stuffers.<br />\nAll are welcome<br />\n<br />\n&nbsp\;
LOCATION:Kaffe Haven
UID:e.11.12560
SEQUENCE:3
DTSTAMP:20260420T185710Z
URL:https://leechlake.mobileappview.com/events/details/women-s-networking-vendor-event-12560
END:VEVENT

END:VCALENDAR
