BEGIN:VCALENDAR
VERSION:2.0
PRODID:-//ChamberMaster//Event Calendar 2.0//EN
METHOD:PUBLISH
X-PUBLISHED-TTL:P3D
REFRESH-INTERVAL:P3D
CALSCALE:GREGORIAN
BEGIN:VEVENT
DTSTART:20170718T123000Z
DTEND:20170718T130000Z
X-MICROSOFT-CDO-ALLDAYEVENT:FALSE
SUMMARY:Women's Networking - Walking the El Camino
DESCRIPTION:Join the newest chamber member group\, the Cass County Women's Networking Group\, as Linnea Dietrich presents "Walker the El Camino".  This group meets monthly and there is no need to join - just show up when able.  The meeting dates\, times and places rotate so watch for the latest updates as they occur.
X-ALT-DESC;FMTTYPE=text/html:Join the newest chamber member group\, the Cass County Women&#39\;s Networking Group\, as Linnea&nbsp\;Dietrich presents &quot\;Walker the El Camino&quot\;. &nbsp\;This group meets monthly and there is no need to join - just show up when able. &nbsp\;The meeting dates\, times and places rotate so watch for the latest updates as they occur.
LOCATION:Hackensack Hub Hackensack
UID:e.11.10555
SEQUENCE:3
DTSTAMP:20260421T030001Z
URL:https://leechlake.mobileappview.com/events/details/women-s-networking-walking-the-el-camino-10555
END:VEVENT

END:VCALENDAR
