BEGIN:VCALENDAR
VERSION:2.0
PRODID:-//ChamberMaster//Event Calendar 2.0//EN
METHOD:PUBLISH
X-PUBLISHED-TTL:P3D
REFRESH-INTERVAL:P3D
CALSCALE:GREGORIAN
BEGIN:VEVENT
DTSTART:20190622T140000Z
DTEND:20190622T200000Z
X-MICROSOFT-CDO-ALLDAYEVENT:FALSE
SUMMARY:Womens Day Retreat
DESCRIPTION:Join us for our 2nd annual Womens Day Retreat! Shannon Velsor from North Star Community Church\, Coon Rapids\, MN will be our featured speaker. Be encouraged as she brings a message of freedom in Christ! Testimonies from Amber Ecker\, Backus\, MN\, and Leah Gustafson\, Roseau\, MN. Catered lunch\, A LOT of giveaways\, new friendships\, laughs\, and encouragement! Cost is $25.00\, scholarships are available. This is give back type of event\, with 90% of proceeds going back into the community! This year we are giving those proceeds to Walker Area Pregnancy Support Center.\n\nFor more information and to register\, go to www.walkernorthwoodslife.com  under the events tab!
X-ALT-DESC;FMTTYPE=text/html:<span style="font-family:candara\,sans-serif"><span style="font-size:12.0pt">Join us for our 2<sup>nd</sup> annual Womens Day Retreat! Shannon Velsor from North Star Community Church\, Coon Rapids\, MN will be our featured speaker. Be encouraged as she brings a message of freedom in Christ! Testimonies from Amber Ecker\, Backus\, MN\, and Leah Gustafson\, Roseau\, MN. Catered lunch\, A LOT of giveaways\, new friendships\, laughs\, and encouragement! Cost is $25.00\, scholarships are available. This is give back type of event\, with 90% of proceeds going back into the community! This year we are giving those proceeds to Walker Area Pregnancy Support Center.<br />\nFor more information and to register\, go to <a href="http://www.walkernorthwoodslife.com/">www.walkernorthwoodslife.com</a>&nbsp\; under the events tab!</span></span>
LOCATION:Northwoods Life Church Walker 500 8th st. Walker\, MN 56484
UID:e.11.20256
SEQUENCE:3
DTSTAMP:20260419T152440Z
URL:https://leechlake.mobileappview.com/events/details/womens-day-retreat-06-22-2019-20256
END:VEVENT

END:VCALENDAR
