BEGIN:VCALENDAR
VERSION:2.0
PRODID:-//ChamberMaster//Event Calendar 2.0//EN
METHOD:PUBLISH
X-PUBLISHED-TTL:P3D
REFRESH-INTERVAL:P3D
CALSCALE:GREGORIAN
BEGIN:VEVENT
DTSTART:20180414T140000Z
DTEND:20180414T200000Z
X-MICROSOFT-CDO-ALLDAYEVENT:FALSE
SUMMARY:Womens Day Retreat
DESCRIPTION:Womens Day Retreat! Come and be encouraged as you listen to Debbie Griffith from Everyday Matters! Join Debbie as she shares how God gives us our dreams and equips us to follow them in our day to day lives! There will be a free catered lunch\, giveaways\, and great girl time!\n\nAll proceeds from this event will go to the Walker Area Pregnancy Support Center.
X-ALT-DESC;FMTTYPE=text/html:Womens Day Retreat! Come and be encouraged as you listen to Debbie Griffith from Everyday Matters! Join Debbie as she shares how God gives us our dreams and equips us to follow them in our day to day lives! There will be a free catered lunch\, giveaways\, and great girl time!<br />\nAll proceeds from this event will go to the Walker Area Pregnancy Support Center.
LOCATION:Northwoods Life Church 500 8th st Walker
UID:e.11.15015
SEQUENCE:3
DTSTAMP:20260420T123940Z
URL:https://leechlake.mobileappview.com/events/details/womens-day-retreat-15015
END:VEVENT

END:VCALENDAR
