BEGIN:VCALENDAR
VERSION:2.0
PRODID:-//ChamberMaster//Event Calendar 2.0//EN
METHOD:PUBLISH
X-PUBLISHED-TTL:P3D
REFRESH-INTERVAL:P3D
CALSCALE:GREGORIAN
BEGIN:VEVENT
DTSTART:20160912T220000Z
DTEND:20160913T003000Z
X-MICROSOFT-CDO-ALLDAYEVENT:FALSE
SUMMARY:Womens Night OUt
DESCRIPTION:Enjoy an evening with author\, speaker and colon cancer survivor Brenda Elsagher.  Free Admission
X-ALT-DESC;FMTTYPE=text/html:Enjoy an evening with author\, speaker and colon cancer survivor Brenda Elsagher. &nbsp\;Free Admission
LOCATION:Faithbridge Church Park Rapids
UID:e.11.8881
SEQUENCE:3
DTSTAMP:20260421T190340Z
URL:https://leechlake.mobileappview.com/events/details/womens-night-out-8881
END:VEVENT

END:VCALENDAR
