BEGIN:VCALENDAR
VERSION:2.0
PRODID:-//ChamberMaster//Event Calendar 2.0//EN
METHOD:PUBLISH
X-PUBLISHED-TTL:P3D
REFRESH-INTERVAL:P3D
CALSCALE:GREGORIAN
BEGIN:VEVENT
DTSTART;VALUE=DATE:20160513
DTEND;VALUE=DATE:20160516
TRANSP:TRANSPARENT
X-MICROSOFT-CDO-ALLDAYEVENT:TRUE
SUMMARY:Wounded Warrior Project-Hiawatha Beach Resort
DESCRIPTION:
X-ALT-DESC;FMTTYPE=text/html:
LOCATION:
UID:e.11.5199
SEQUENCE:3
DTSTAMP:20260422T014623Z
URL:https://leechlake.mobileappview.com/events/details/wounded-warrior-project-hiawatha-beach-resort-05-13-2016-5199
END:VEVENT

END:VCALENDAR
