BEGIN:VCALENDAR
VERSION:2.0
PRODID:-//ChamberMaster//Event Calendar 2.0//EN
METHOD:PUBLISH
X-PUBLISHED-TTL:P3D
REFRESH-INTERVAL:P3D
CALSCALE:GREGORIAN
BEGIN:VEVENT
DTSTART:20181215T170000Z
DTEND:20181215T180000Z
X-MICROSOFT-CDO-ALLDAYEVENT:FALSE
SUMMARY:Wreaths Across America
DESCRIPTION:Click Here
X-ALT-DESC;FMTTYPE=text/html:<a href="https://chambermaster.blob.core.windows.net/userfiles/UserFiles/chambers/11/File/Wreaths.pdf">Click Here</a>
LOCATION:
UID:e.11.18610
SEQUENCE:3
DTSTAMP:20260420T004500Z
URL:https://leechlake.mobileappview.com/events/details/wreaths-across-america-18610
END:VEVENT

END:VCALENDAR
